BEGIN:VCALENDAR
VERSION:2.0
PRODID:-//Plone.org//NONSGML plone.app.event//EN
X-WR-TIMEZONE:Europe/Zurich
BEGIN:VEVENT
SUMMARY:Woche B
DTSTART;TZID=Europe/Zurich;VALUE=DATE-TIME:20200817T070000
DTEND;TZID=Europe/Zurich;VALUE=DATE-TIME:20200817T073000
DTSTAMP;VALUE=DATE-TIME:20260421T110403Z
UID:040000008200E00074C5B7101A82E00800000000F0DF9399CB4AD60100000000000000
 00100000004D1CAEC9C618D94E9C98A60D993B9A1F
CREATED;VALUE=DATE-TIME:20200706T062817Z
LAST-MODIFIED;VALUE=DATE-TIME:20200706T064402Z
URL:https://www.sek-pratteln.ch/events/oeffentlich/woche-b-17
END:VEVENT
BEGIN:VTIMEZONE
TZID:Europe/Zurich
X-LIC-LOCATION:Europe/Zurich
BEGIN:DAYLIGHT
DTSTART;VALUE=DATE-TIME:20200329T030000
TZNAME:CEST
TZOFFSETFROM:+0100
TZOFFSETTO:+0200
END:DAYLIGHT
END:VTIMEZONE
END:VCALENDAR
