BEGIN:VCALENDAR
VERSION:2.0
PRODID:-//Plone.org//NONSGML plone.app.event//EN
X-WR-TIMEZONE:Europe/Zurich
BEGIN:VEVENT
SUMMARY:Woche B
DTSTART;VALUE=DATE:20190902
DTEND;VALUE=DATE:20190903
DTSTAMP;VALUE=DATE-TIME:20260421T110531Z
UID:040000008200E00074C5B7101A82E00800000000E0B87AFEA831D50100000000000000
 00100000004500559CBEE1F94EB553062C3CC259A9
CREATED;VALUE=DATE-TIME:20190708T101821Z
DESCRIPTION:\n\n
LAST-MODIFIED;VALUE=DATE-TIME:20200706T064357Z
URL:https://www.sek-pratteln.ch/events/oeffentlich/woche-b-15
END:VEVENT
END:VCALENDAR
