BEGIN:VCALENDAR
VERSION:2.0
PRODID:-//Plone.org//NONSGML plone.app.event//EN
X-WR-TIMEZONE:Europe/Zurich
BEGIN:VEVENT
SUMMARY:Woche B
DTSTART;VALUE=DATE:20191104
DTEND;VALUE=DATE:20191105
DTSTAMP;VALUE=DATE-TIME:20260421T110403Z
UID:040000008200E00074C5B7101A82E0080000000020C4D25FA931D50100000000000000
 0010000000BC9252A76A545F49AB95C910C56A3ECA
CREATED;VALUE=DATE-TIME:20190708T101819Z
DESCRIPTION:\n\n
LAST-MODIFIED;VALUE=DATE-TIME:20200706T064357Z
URL:https://www.sek-pratteln.ch/events/oeffentlich/woche-b-12
END:VEVENT
END:VCALENDAR
