BEGIN:VCALENDAR
VERSION:2.0
PRODID:-//Plone.org//NONSGML plone.app.event//EN
X-WR-TIMEZONE:Europe/Zurich
BEGIN:VEVENT
SUMMARY:Woche B
DTSTART;VALUE=DATE:20191118
DTEND;VALUE=DATE:20191119
DTSTAMP;VALUE=DATE-TIME:20260421T051520Z
UID:040000008200E00074C5B7101A82E00800000000A0D99467A931D50100000000000000
 0010000000006673D55F52254FB2B6F04DB11AFCA5
CREATED;VALUE=DATE-TIME:20190708T101818Z
DESCRIPTION:\n\n
LAST-MODIFIED;VALUE=DATE-TIME:20200706T064357Z
URL:https://www.sek-pratteln.ch/events/oeffentlich/woche-b-11
END:VEVENT
END:VCALENDAR
