BEGIN:VCALENDAR
VERSION:2.0
PRODID:-//Plone.org//NONSGML plone.app.event//EN
X-WR-TIMEZONE:Europe/Zurich
BEGIN:VEVENT
SUMMARY:Woche B
DTSTART;VALUE=DATE:20191202
DTEND;VALUE=DATE:20191203
DTSTAMP;VALUE=DATE-TIME:20260421T110405Z
UID:040000008200E00074C5B7101A82E00800000000701BF072A931D50100000000000000
 0010000000B812A0475999BE4A92F90502E1D4AC1F
CREATED;VALUE=DATE-TIME:20190708T101818Z
DESCRIPTION:\n\n
LAST-MODIFIED;VALUE=DATE-TIME:20200706T064357Z
URL:https://www.sek-pratteln.ch/events/oeffentlich/woche-b-10
END:VEVENT
END:VCALENDAR
