BEGIN:VCALENDAR
VERSION:2.0
PRODID:-//Plone.org//NONSGML plone.app.event//EN
X-WR-TIMEZONE:Europe/Zurich
BEGIN:VEVENT
SUMMARY:Woche B
DTSTART;VALUE=DATE:20200601
DTEND;VALUE=DATE:20200602
DTSTAMP;VALUE=DATE-TIME:20260419T153601Z
UID:040000008200E00074C5B7101A82E0080000000040387FE2A931D50100000000000000
 0010000000344FBFAC63D583419C90104F98498AAF
CREATED;VALUE=DATE-TIME:20190708T101812Z
DESCRIPTION:\n\n
LAST-MODIFIED;VALUE=DATE-TIME:20200706T064356Z
URL:https://www.sek-pratteln.ch/events/oeffentlich/woche-b-1
END:VEVENT
END:VCALENDAR
