BEGIN:VCALENDAR
VERSION:2.0
PRODID:-//Plone.org//NONSGML plone.app.event//EN
X-WR-TIMEZONE:Europe/Zurich
BEGIN:VEVENT
SUMMARY:Woche A
DTSTART;TZID=Europe/Zurich;VALUE=DATE-TIME:20241209T070000
DTEND;TZID=Europe/Zurich;VALUE=DATE-TIME:20241209T073000
DTSTAMP;VALUE=DATE-TIME:20260421T150742Z
UID:040000008200E00074C5B7101A82E0080000000050A7442C2BC2DA0100000000000000
 0010000000957D9706CAFCB64EA395C82F83B31610
CREATED;VALUE=DATE-TIME:20240627T145143Z
LAST-MODIFIED;VALUE=DATE-TIME:20240627T145330Z
URL:https://www.sek-pratteln.ch/events/oeffentlich/woche-a-95
END:VEVENT
BEGIN:VTIMEZONE
TZID:Europe/Zurich
X-LIC-LOCATION:Europe/Zurich
BEGIN:STANDARD
DTSTART;VALUE=DATE-TIME:20241027T020000
TZNAME:CET
TZOFFSETFROM:+0200
TZOFFSETTO:+0100
END:STANDARD
END:VTIMEZONE
END:VCALENDAR
