BEGIN:VCALENDAR
VERSION:2.0
PRODID:-//Plone.org//NONSGML plone.app.event//EN
X-WR-TIMEZONE:Europe/Zurich
BEGIN:VEVENT
SUMMARY:Woche A
DTSTART;TZID=Europe/Zurich;VALUE=DATE-TIME:20250224T070000
DTEND;TZID=Europe/Zurich;VALUE=DATE-TIME:20250224T073000
DTSTAMP;VALUE=DATE-TIME:20260421T110530Z
UID:040000008200E00074C5B7101A82E00800000000003809722BC2DA0100000000000000
 0010000000FEE4129655DFA840BCF8047F6879305A
CREATED;VALUE=DATE-TIME:20240627T145141Z
LAST-MODIFIED;VALUE=DATE-TIME:20240627T145330Z
URL:https://www.sek-pratteln.ch/events/oeffentlich/woche-a-91
END:VEVENT
BEGIN:VTIMEZONE
TZID:Europe/Zurich
X-LIC-LOCATION:Europe/Zurich
BEGIN:STANDARD
DTSTART;VALUE=DATE-TIME:20241027T020000
TZNAME:CET
TZOFFSETFROM:+0200
TZOFFSETTO:+0100
END:STANDARD
END:VTIMEZONE
END:VCALENDAR
