BEGIN:VCALENDAR
VERSION:2.0
PRODID:-//Plone.org//NONSGML plone.app.event//EN
X-WR-TIMEZONE:Europe/Zurich
BEGIN:VEVENT
SUMMARY:Woche A
DTSTART;TZID=Europe/Zurich;VALUE=DATE-TIME:20231211T070000
DTEND;TZID=Europe/Zurich;VALUE=DATE-TIME:20231211T073000
DTSTAMP;VALUE=DATE-TIME:20260420T151110Z
UID:040000008200E00074C5B7101A82E00800000000605A90192BA4D90100000000000000
 0010000000B5487576CF1A4D408EDF503919A81390
CREATED;VALUE=DATE-TIME:20230626T125615Z
LAST-MODIFIED;VALUE=DATE-TIME:20230626T125834Z
URL:https://www.sek-pratteln.ch/events/oeffentlich/woche-a-83/2023-12-11
END:VEVENT
BEGIN:VTIMEZONE
TZID:Europe/Zurich
X-LIC-LOCATION:Europe/Zurich
BEGIN:STANDARD
DTSTART;VALUE=DATE-TIME:20231029T020000
TZNAME:CET
TZOFFSETFROM:+0200
TZOFFSETTO:+0100
END:STANDARD
END:VTIMEZONE
END:VCALENDAR
