BEGIN:VCALENDAR
VERSION:2.0
PRODID:-//Plone.org//NONSGML plone.app.event//EN
X-WR-TIMEZONE:Europe/Zurich
BEGIN:VEVENT
SUMMARY:Woche A
DTSTART;VALUE=DATE:20200120
DTEND;VALUE=DATE:20200121
DTSTAMP;VALUE=DATE-TIME:20260421T110355Z
UID:040000008200E00074C5B7101A82E0080000000090256C82A831D50100000000000000
 0010000000B14579FC9DFDB04698F3959AED9CD05A
CREATED;VALUE=DATE-TIME:20190708T101827Z
DESCRIPTION:\n\n
LAST-MODIFIED;VALUE=DATE-TIME:20200706T064358Z
URL:https://www.sek-pratteln.ch/events/oeffentlich/woche-a-8
END:VEVENT
END:VCALENDAR
