BEGIN:VCALENDAR
VERSION:2.0
PRODID:-//Plone.org//NONSGML plone.app.event//EN
X-WR-TIMEZONE:Europe/Zurich
BEGIN:VEVENT
SUMMARY:Woche A
DTSTART;TZID=Europe/Zurich;VALUE=DATE-TIME:20240422T070000
DTEND;TZID=Europe/Zurich;VALUE=DATE-TIME:20240422T073000
DTSTAMP;VALUE=DATE-TIME:20260421T110356Z
UID:040000008200E00074C5B7101A82E00800000000C04BDD562CA4D90100000000000000
 00100000005BCEB70F8A5873418857A3187B3F7703
CREATED;VALUE=DATE-TIME:20230626T125610Z
LAST-MODIFIED;VALUE=DATE-TIME:20230626T125834Z
URL:https://www.sek-pratteln.ch/events/oeffentlich/woche-a-77
END:VEVENT
BEGIN:VTIMEZONE
TZID:Europe/Zurich
X-LIC-LOCATION:Europe/Zurich
BEGIN:DAYLIGHT
DTSTART;VALUE=DATE-TIME:20240331T030000
TZNAME:CEST
TZOFFSETFROM:+0100
TZOFFSETTO:+0200
END:DAYLIGHT
END:VTIMEZONE
END:VCALENDAR
