BEGIN:VCALENDAR
VERSION:2.0
PRODID:-//Plone.org//NONSGML plone.app.event//EN
X-WR-TIMEZONE:Europe/Zurich
BEGIN:VEVENT
SUMMARY:Woche A
DTSTART;VALUE=DATE:20200210
DTEND;VALUE=DATE:20200211
DTSTAMP;VALUE=DATE-TIME:20260421T110357Z
UID:040000008200E00074C5B7101A82E0080000000080BCB18DA831D50100000000000000
 0010000000974DA454E054244298673F4A94D132B4
CREATED;VALUE=DATE-TIME:20190708T101826Z
DESCRIPTION:\n\n
LAST-MODIFIED;VALUE=DATE-TIME:20200706T064358Z
URL:https://www.sek-pratteln.ch/events/oeffentlich/woche-a-7
END:VEVENT
END:VCALENDAR
