BEGIN:VCALENDAR
VERSION:2.0
PRODID:-//Plone.org//NONSGML plone.app.event//EN
X-WR-TIMEZONE:Europe/Zurich
BEGIN:VEVENT
SUMMARY:Woche A
DTSTART;TZID=Europe/Zurich;VALUE=DATE-TIME:20221128T070000
DTEND;TZID=Europe/Zurich;VALUE=DATE-TIME:20221128T073000
DTSTAMP;VALUE=DATE-TIME:20260421T104706Z
UID:040000008200E00074C5B7101A82E0080000000080FEC0F0A081D80100000000000000
 0010000000E9C78F6C8C2C1B4A8652D9F2CDA03448
CREATED;VALUE=DATE-TIME:20220627T163341Z
DESCRIPTION: \n
LAST-MODIFIED;VALUE=DATE-TIME:20220627T170051Z
URL:https://www.sek-pratteln.ch/events/oeffentlich/woche-a-60
END:VEVENT
BEGIN:VTIMEZONE
TZID:Europe/Zurich
X-LIC-LOCATION:Europe/Zurich
BEGIN:STANDARD
DTSTART;VALUE=DATE-TIME:20221030T020000
TZNAME:CET
TZOFFSETFROM:+0200
TZOFFSETTO:+0100
END:STANDARD
END:VTIMEZONE
END:VCALENDAR
