BEGIN:VCALENDAR
VERSION:2.0
PRODID:-//Plone.org//NONSGML plone.app.event//EN
X-WR-TIMEZONE:Europe/Zurich
BEGIN:VEVENT
SUMMARY:Woche A
DTSTART;VALUE=DATE:20200309
DTEND;VALUE=DATE:20200310
DTSTAMP;VALUE=DATE-TIME:20260421T110355Z
UID:040000008200E00074C5B7101A82E00800000000504B1B98A831D50100000000000000
 0010000000D92B112465D14C4FA5B62F0CEC65A49F
CREATED;VALUE=DATE-TIME:20190708T101826Z
DESCRIPTION:\n\n
LAST-MODIFIED;VALUE=DATE-TIME:20200706T064358Z
URL:https://www.sek-pratteln.ch/events/oeffentlich/woche-a-6
END:VEVENT
END:VCALENDAR
