BEGIN:VCALENDAR
VERSION:2.0
PRODID:-//Plone.org//NONSGML plone.app.event//EN
X-WR-TIMEZONE:Europe/Zurich
BEGIN:VEVENT
SUMMARY:Woche A
DTSTART;TZID=Europe/Zurich;VALUE=DATE-TIME:20221017T070000
DTEND;TZID=Europe/Zurich;VALUE=DATE-TIME:20221017T073000
DTSTAMP;VALUE=DATE-TIME:20260421T110531Z
UID:040000008200E00074C5B7101A82E00800000000C075CCC9A081D80100000000000000
 0010000000172DD0EF722E804EB4CFB9B9B21A95D8
CREATED;VALUE=DATE-TIME:20220627T163340Z
DESCRIPTION: \n
LAST-MODIFIED;VALUE=DATE-TIME:20220627T170051Z
URL:https://www.sek-pratteln.ch/events/oeffentlich/woche-a-57
END:VEVENT
BEGIN:VTIMEZONE
TZID:Europe/Zurich
X-LIC-LOCATION:Europe/Zurich
BEGIN:DAYLIGHT
DTSTART;VALUE=DATE-TIME:20220327T030000
TZNAME:CEST
TZOFFSETFROM:+0100
TZOFFSETTO:+0200
END:DAYLIGHT
END:VTIMEZONE
END:VCALENDAR
