BEGIN:VCALENDAR
VERSION:2.0
PRODID:-//Plone.org//NONSGML plone.app.event//EN
X-WR-TIMEZONE:Europe/Zurich
BEGIN:VEVENT
SUMMARY:Woche A
DTSTART;TZID=Europe/Zurich;VALUE=DATE-TIME:20220829T070000
DTEND;TZID=Europe/Zurich;VALUE=DATE-TIME:20220829T073000
DTSTAMP;VALUE=DATE-TIME:20260421T110404Z
UID:040000008200E00074C5B7101A82E00800000000B04E9EA7A081D80100000000000000
 00100000001B9C7359E5B9704A95476DA2D995FBED
CREATED;VALUE=DATE-TIME:20220627T163339Z
DESCRIPTION: \n
LAST-MODIFIED;VALUE=DATE-TIME:20220627T170050Z
URL:https://www.sek-pratteln.ch/events/oeffentlich/woche-a-55
END:VEVENT
BEGIN:VTIMEZONE
TZID:Europe/Zurich
X-LIC-LOCATION:Europe/Zurich
BEGIN:DAYLIGHT
DTSTART;VALUE=DATE-TIME:20220327T030000
TZNAME:CEST
TZOFFSETFROM:+0100
TZOFFSETTO:+0200
END:DAYLIGHT
END:VTIMEZONE
END:VCALENDAR
