BEGIN:VCALENDAR
VERSION:2.0
PRODID:-//Plone.org//NONSGML plone.app.event//EN
X-WR-TIMEZONE:Europe/Zurich
BEGIN:VEVENT
SUMMARY:Woche A
DTSTART;VALUE=DATE:20200323
DTEND;VALUE=DATE:20200324
DTSTAMP;VALUE=DATE-TIME:20260421T145029Z
UID:040000008200E00074C5B7101A82E00800000000A09846A2A831D50100000000000000
 0010000000F7433277CE7D04499BEAEE55E1A4A2CC
CREATED;VALUE=DATE-TIME:20190708T101825Z
DESCRIPTION:\n\n
LAST-MODIFIED;VALUE=DATE-TIME:20200706T064357Z
URL:https://www.sek-pratteln.ch/events/oeffentlich/woche-a-5
END:VEVENT
END:VCALENDAR
