BEGIN:VCALENDAR
VERSION:2.0
PRODID:-//Plone.org//NONSGML plone.app.event//EN
X-WR-TIMEZONE:Europe/Zurich
BEGIN:VEVENT
SUMMARY:Woche A
DTSTART;TZID=Europe/Zurich;VALUE=DATE-TIME:20220425T070000
DTEND;TZID=Europe/Zurich;VALUE=DATE-TIME:20220425T073000
DTSTAMP;VALUE=DATE-TIME:20260419T151403Z
UID:040000008200E00074C5B7101A82E00800000000A013D2FC0A62D70100000000000000
 00100000000F06C6D9A1A0874DA4EF8A6773A29DA0
CREATED;VALUE=DATE-TIME:20210701T072550Z
LAST-MODIFIED;VALUE=DATE-TIME:20210701T072934Z
URL:https://www.sek-pratteln.ch/events/oeffentlich/woche-a-49
END:VEVENT
BEGIN:VTIMEZONE
TZID:Europe/Zurich
X-LIC-LOCATION:Europe/Zurich
BEGIN:DAYLIGHT
DTSTART;VALUE=DATE-TIME:20220327T030000
TZNAME:CEST
TZOFFSETFROM:+0100
TZOFFSETTO:+0200
END:DAYLIGHT
END:VTIMEZONE
END:VCALENDAR
