BEGIN:VCALENDAR
VERSION:2.0
PRODID:-//Plone.org//NONSGML plone.app.event//EN
X-WR-TIMEZONE:Europe/Zurich
BEGIN:VEVENT
SUMMARY:Woche A
DTSTART;TZID=Europe/Zurich;VALUE=DATE-TIME:20211213T070000
DTEND;TZID=Europe/Zurich;VALUE=DATE-TIME:20211213T073000
DTSTAMP;VALUE=DATE-TIME:20260420T161242Z
UID:040000008200E00074C5B7101A82E008000000009076EF230A62D70100000000000000
 00100000006D586D3904393B4896ACB6703D5F482C
CREATED;VALUE=DATE-TIME:20210701T072545Z
LAST-MODIFIED;VALUE=DATE-TIME:20210701T072956Z
URL:https://www.sek-pratteln.ch/events/oeffentlich/woche-a-43
END:VEVENT
BEGIN:VTIMEZONE
TZID:Europe/Zurich
X-LIC-LOCATION:Europe/Zurich
BEGIN:STANDARD
DTSTART;VALUE=DATE-TIME:20211031T020000
TZNAME:CET
TZOFFSETFROM:+0200
TZOFFSETTO:+0100
END:STANDARD
END:VTIMEZONE
END:VCALENDAR
