BEGIN:VCALENDAR
VERSION:2.0
PRODID:-//Plone.org//NONSGML plone.app.event//EN
X-WR-TIMEZONE:Europe/Zurich
BEGIN:VEVENT
SUMMARY:Woche A
DTSTART;TZID=Europe/Zurich;VALUE=DATE-TIME:20211129T070000
DTEND;TZID=Europe/Zurich;VALUE=DATE-TIME:20211129T073000
DTSTAMP;VALUE=DATE-TIME:20260421T104707Z
UID:040000008200E00074C5B7101A82E00800000000F0A38BF00962D70100000000000000
 0010000000EAA2EBB2E6C0D140B50A9A080F9E8E74
CREATED;VALUE=DATE-TIME:20210701T072544Z
LAST-MODIFIED;VALUE=DATE-TIME:20210701T072956Z
URL:https://www.sek-pratteln.ch/events/oeffentlich/woche-a-42
END:VEVENT
BEGIN:VTIMEZONE
TZID:Europe/Zurich
X-LIC-LOCATION:Europe/Zurich
BEGIN:STANDARD
DTSTART;VALUE=DATE-TIME:20211031T020000
TZNAME:CET
TZOFFSETFROM:+0200
TZOFFSETTO:+0100
END:STANDARD
END:VTIMEZONE
END:VCALENDAR
