BEGIN:VCALENDAR
VERSION:2.0
PRODID:-//Plone.org//NONSGML plone.app.event//EN
X-WR-TIMEZONE:Europe/Zurich
BEGIN:VEVENT
SUMMARY:Woche A
DTSTART;TZID=Europe/Zurich;VALUE=DATE-TIME:20211101T070000
DTEND;TZID=Europe/Zurich;VALUE=DATE-TIME:20211101T073000
DTSTAMP;VALUE=DATE-TIME:20260421T110434Z
UID:040000008200E00074C5B7101A82E00800000000A0297E460962D70100000000000000
 001000000083FF0F849E5E8146829C61E7373EE8C0
CREATED;VALUE=DATE-TIME:20210701T072542Z
LAST-MODIFIED;VALUE=DATE-TIME:20210701T072955Z
URL:https://www.sek-pratteln.ch/events/oeffentlich/woche-a-40
END:VEVENT
BEGIN:VTIMEZONE
TZID:Europe/Zurich
X-LIC-LOCATION:Europe/Zurich
BEGIN:STANDARD
DTSTART;VALUE=DATE-TIME:20211031T020000
TZNAME:CET
TZOFFSETFROM:+0200
TZOFFSETTO:+0100
END:STANDARD
END:VTIMEZONE
END:VCALENDAR
