BEGIN:VCALENDAR
VERSION:2.0
PRODID:-//Plone.org//NONSGML plone.app.event//EN
X-WR-TIMEZONE:Europe/Zurich
BEGIN:VEVENT
SUMMARY:Woche A
DTSTART;TZID=Europe/Zurich;VALUE=DATE-TIME:20210913T070000
DTEND;TZID=Europe/Zurich;VALUE=DATE-TIME:20210913T073000
DTSTAMP;VALUE=DATE-TIME:20260419T153805Z
UID:040000008200E00074C5B7101A82E0080000000030FA25020962D70100000000000000
 0010000000B9E84ADBE8D31A4093C4C299A191F7A3
CREATED;VALUE=DATE-TIME:20210701T072540Z
LAST-MODIFIED;VALUE=DATE-TIME:20210701T072955Z
URL:https://www.sek-pratteln.ch/events/oeffentlich/woche-a-38
END:VEVENT
BEGIN:VTIMEZONE
TZID:Europe/Zurich
X-LIC-LOCATION:Europe/Zurich
BEGIN:DAYLIGHT
DTSTART;VALUE=DATE-TIME:20210328T030000
TZNAME:CEST
TZOFFSETFROM:+0100
TZOFFSETTO:+0200
END:DAYLIGHT
END:VTIMEZONE
END:VCALENDAR
