BEGIN:VCALENDAR
VERSION:2.0
PRODID:-//Plone.org//NONSGML plone.app.event//EN
X-WR-TIMEZONE:Europe/Zurich
BEGIN:VEVENT
SUMMARY:Woche A
DTSTART;TZID=Europe/Zurich;VALUE=DATE-TIME:20210118T070000
DTEND;TZID=Europe/Zurich;VALUE=DATE-TIME:20210118T073000
DTSTAMP;VALUE=DATE-TIME:20260420T233710Z
UID:040000008200E00074C5B7101A82E00800000000A074312D7E45D60100000000000000
 0010000000AC838654D03A03469441AC5A6B015830
CREATED;VALUE=DATE-TIME:20200706T062943Z
LAST-MODIFIED;VALUE=DATE-TIME:20200706T064411Z
URL:https://www.sek-pratteln.ch/events/oeffentlich/woche-a-34/2021-01-18
END:VEVENT
BEGIN:VTIMEZONE
TZID:Europe/Zurich
X-LIC-LOCATION:Europe/Zurich
BEGIN:STANDARD
DTSTART;VALUE=DATE-TIME:20201025T020000
TZNAME:CET
TZOFFSETFROM:+0200
TZOFFSETTO:+0100
END:STANDARD
END:VTIMEZONE
END:VCALENDAR
