BEGIN:VCALENDAR
VERSION:2.0
PRODID:-//Plone.org//NONSGML plone.app.event//EN
X-WR-TIMEZONE:Europe/Zurich
BEGIN:VEVENT
SUMMARY:Woche A
DTSTART;TZID=Europe/Zurich;VALUE=DATE-TIME:20210524T070000
DTEND;TZID=Europe/Zurich;VALUE=DATE-TIME:20210524T073000
DTSTAMP;VALUE=DATE-TIME:20260421T110434Z
UID:040000008200E00074C5B7101A82E0080000000040D65FA77E45D60100000000000000
 001000000030E8B3DFFDD5AB459F7EEBB220CCD459
CREATED;VALUE=DATE-TIME:20200706T062939Z
LAST-MODIFIED;VALUE=DATE-TIME:20200706T064410Z
URL:https://www.sek-pratteln.ch/events/oeffentlich/woche-a-28
END:VEVENT
BEGIN:VTIMEZONE
TZID:Europe/Zurich
X-LIC-LOCATION:Europe/Zurich
BEGIN:DAYLIGHT
DTSTART;VALUE=DATE-TIME:20210328T030000
TZNAME:CEST
TZOFFSETFROM:+0100
TZOFFSETTO:+0200
END:DAYLIGHT
END:VTIMEZONE
END:VCALENDAR
