BEGIN:VCALENDAR
VERSION:2.0
PRODID:-//Plone.org//NONSGML plone.app.event//EN
X-WR-TIMEZONE:Europe/Zurich
BEGIN:VEVENT
SUMMARY:Woche A
DTSTART;TZID=Europe/Zurich;VALUE=DATE-TIME:20200810T070000
DTEND;TZID=Europe/Zurich;VALUE=DATE-TIME:20200810T073000
DTSTAMP;VALUE=DATE-TIME:20260421T110433Z
UID:040000008200E00074C5B7101A82E0080000000080261A88CB4AD60100000000000000
 0010000000241EEA2619906047AD4DF8F1E3377A27
CREATED;VALUE=DATE-TIME:20200706T062818Z
LAST-MODIFIED;VALUE=DATE-TIME:20200706T064402Z
URL:https://www.sek-pratteln.ch/events/oeffentlich/woche-a-25
END:VEVENT
BEGIN:VTIMEZONE
TZID:Europe/Zurich
X-LIC-LOCATION:Europe/Zurich
BEGIN:DAYLIGHT
DTSTART;VALUE=DATE-TIME:20200329T030000
TZNAME:CEST
TZOFFSETFROM:+0100
TZOFFSETTO:+0200
END:DAYLIGHT
END:VTIMEZONE
END:VCALENDAR
