BEGIN:VCALENDAR
VERSION:2.0
PRODID:-//Plone.org//NONSGML plone.app.event//EN
X-WR-TIMEZONE:Europe/Zurich
BEGIN:VEVENT
SUMMARY:Woche A
DTSTART;TZID=Europe/Zurich;VALUE=DATE-TIME:20201123T070000
DTEND;TZID=Europe/Zurich;VALUE=DATE-TIME:20201123T073000
DTSTAMP;VALUE=DATE-TIME:20260419T153805Z
UID:040000008200E00074C5B7101A82E0080000000060F7BD0FCC4AD60100000000000000
 0010000000CA28732F421B0249A2E6C89C7E81D34F
CREATED;VALUE=DATE-TIME:20200706T062812Z
LAST-MODIFIED;VALUE=DATE-TIME:20200706T064402Z
URL:https://www.sek-pratteln.ch/events/oeffentlich/woche-a-19
END:VEVENT
BEGIN:VTIMEZONE
TZID:Europe/Zurich
X-LIC-LOCATION:Europe/Zurich
BEGIN:STANDARD
DTSTART;VALUE=DATE-TIME:20201025T020000
TZNAME:CET
TZOFFSETFROM:+0200
TZOFFSETTO:+0100
END:STANDARD
END:VTIMEZONE
END:VCALENDAR
