BEGIN:VCALENDAR
VERSION:2.0
PRODID:-//Plone.org//NONSGML plone.app.event//EN
X-WR-TIMEZONE:Europe/Zurich
BEGIN:VEVENT
SUMMARY:Woche A
DTSTART;TZID=Europe/Zurich;VALUE=DATE-TIME:20201207T070000
DTEND;TZID=Europe/Zurich;VALUE=DATE-TIME:20201207T073000
DTSTAMP;VALUE=DATE-TIME:20260421T110433Z
UID:040000008200E00074C5B7101A82E0080000000080C94220CC4AD60100000000000000
 00100000007CE0464800CC1B4299C5F5B0DE95AEAF
CREATED;VALUE=DATE-TIME:20200706T062811Z
LAST-MODIFIED;VALUE=DATE-TIME:20200706T064402Z
URL:https://www.sek-pratteln.ch/events/oeffentlich/woche-a-18
END:VEVENT
BEGIN:VTIMEZONE
TZID:Europe/Zurich
X-LIC-LOCATION:Europe/Zurich
BEGIN:STANDARD
DTSTART;VALUE=DATE-TIME:20201025T020000
TZNAME:CET
TZOFFSETFROM:+0200
TZOFFSETTO:+0100
END:STANDARD
END:VTIMEZONE
END:VCALENDAR
