BEGIN:VCALENDAR
VERSION:2.0
PRODID:-//Plone.org//NONSGML plone.app.event//EN
X-WR-TIMEZONE:Europe/Zurich
BEGIN:VEVENT
SUMMARY:Woche A
DTSTART;TZID=Europe/Zurich;VALUE=DATE-TIME:20250811T070000
DTEND;TZID=Europe/Zurich;VALUE=DATE-TIME:20250811T073000
DTSTAMP;VALUE=DATE-TIME:20260420T004321Z
UID:040000008200E00074C5B7101A82E00800000000B06A9DEB15D2DB0100000000000000
 0010000000DBC276327BA95D4A8CD37F3769171B15
CREATED;VALUE=DATE-TIME:20250611T084937Z
LAST-MODIFIED;VALUE=DATE-TIME:20250611T085653Z
URL:https://www.sek-pratteln.ch/events/oeffentlich/woche-a-1749631777.85
END:VEVENT
BEGIN:VTIMEZONE
TZID:Europe/Zurich
X-LIC-LOCATION:Europe/Zurich
BEGIN:DAYLIGHT
DTSTART;VALUE=DATE-TIME:20250330T030000
TZNAME:CEST
TZOFFSETFROM:+0100
TZOFFSETTO:+0200
END:DAYLIGHT
END:VTIMEZONE
END:VCALENDAR
