BEGIN:VCALENDAR
VERSION:2.0
PRODID:-//Plone.org//NONSGML plone.app.event//EN
X-WR-TIMEZONE:Europe/Zurich
BEGIN:VEVENT
SUMMARY:Woche A
DTSTART;TZID=Europe/Zurich;VALUE=DATE-TIME:20260105T070000
DTEND;TZID=Europe/Zurich;VALUE=DATE-TIME:20260105T073000
DTSTAMP;VALUE=DATE-TIME:20260419T214017Z
UID:040000008200E00074C5B7101A82E0080000000030284B5A16D2DB0100000000000000
 001000000095FC956E6D632A409101368C72E365AD
CREATED;VALUE=DATE-TIME:20250611T084933Z
LAST-MODIFIED;VALUE=DATE-TIME:20250611T085653Z
URL:https://www.sek-pratteln.ch/events/oeffentlich/woche-a-1749631773.92
END:VEVENT
BEGIN:VTIMEZONE
TZID:Europe/Zurich
X-LIC-LOCATION:Europe/Zurich
BEGIN:STANDARD
DTSTART;VALUE=DATE-TIME:20251026T020000
TZNAME:CET
TZOFFSETFROM:+0200
TZOFFSETTO:+0100
END:STANDARD
END:VTIMEZONE
END:VCALENDAR
