BEGIN:VCALENDAR
VERSION:2.0
PRODID:-//Plone.org//NONSGML plone.app.event//EN
X-WR-TIMEZONE:Europe/Zurich
BEGIN:VEVENT
SUMMARY:Woche A
DTSTART;TZID=Europe/Zurich;VALUE=DATE-TIME:20260608T070000
DTEND;TZID=Europe/Zurich;VALUE=DATE-TIME:20260608T073000
DTSTAMP;VALUE=DATE-TIME:20260419T195036Z
UID:040000008200E00074C5B7101A82E00800000000D0B94FB016D2DB0100000000000000
 001000000035A300A541FAA242A015DAA977E7535E
CREATED;VALUE=DATE-TIME:20250611T084929Z
LAST-MODIFIED;VALUE=DATE-TIME:20250611T085709Z
URL:https://www.sek-pratteln.ch/events/oeffentlich/woche-a-1749631769.81
END:VEVENT
BEGIN:VTIMEZONE
TZID:Europe/Zurich
X-LIC-LOCATION:Europe/Zurich
BEGIN:DAYLIGHT
DTSTART;VALUE=DATE-TIME:20260329T030000
TZNAME:CEST
TZOFFSETFROM:+0100
TZOFFSETTO:+0200
END:DAYLIGHT
END:VTIMEZONE
END:VCALENDAR
