BEGIN:VCALENDAR
VERSION:2.0
PRODID:-//Plone.org//NONSGML plone.app.event//EN
X-WR-TIMEZONE:Europe/Zurich
BEGIN:VEVENT
SUMMARY:Woche A
DTSTART;TZID=Europe/Zurich;VALUE=DATE-TIME:20240826T070000
DTEND;TZID=Europe/Zurich;VALUE=DATE-TIME:20240826T073000
DTSTAMP;VALUE=DATE-TIME:20260420T095916Z
UID:040000008200E00074C5B7101A82E00800000000A0FB40D22AC2DA0100000000000000
 001000000067C35394A638D5458ECC2436247E005B
CREATED;VALUE=DATE-TIME:20240627T145146Z
LAST-MODIFIED;VALUE=DATE-TIME:20240627T145331Z
URL:https://www.sek-pratteln.ch/events/oeffentlich/woche-a-1719499906.69
END:VEVENT
BEGIN:VTIMEZONE
TZID:Europe/Zurich
X-LIC-LOCATION:Europe/Zurich
BEGIN:DAYLIGHT
DTSTART;VALUE=DATE-TIME:20240331T030000
TZNAME:CEST
TZOFFSETFROM:+0100
TZOFFSETTO:+0200
END:DAYLIGHT
END:VTIMEZONE
END:VCALENDAR
