BEGIN:VCALENDAR
VERSION:2.0
PRODID:-//Plone.org//NONSGML plone.app.event//EN
X-WR-TIMEZONE:Europe/Zurich
BEGIN:VEVENT
SUMMARY:Woche A
DTSTART;VALUE=DATE:20190812
DTEND;VALUE=DATE:20190813
DTSTAMP;VALUE=DATE-TIME:20260419T151619Z
UID:040000008200E00074C5B7101A82E0080000000080A80E09A831D50100000000000000
 00100000006D8D09135483D24D9A4CC17C1792DA51
CREATED;VALUE=DATE-TIME:20190708T101833Z
DESCRIPTION:\n\n
LAST-MODIFIED;VALUE=DATE-TIME:20200706T064358Z
URL:https://www.sek-pratteln.ch/events/oeffentlich/woche-a-17
END:VEVENT
END:VCALENDAR
