BEGIN:VCALENDAR
VERSION:2.0
PRODID:-//Plone.org//NONSGML plone.app.event//EN
X-WR-TIMEZONE:Europe/Zurich
BEGIN:VEVENT
SUMMARY:Woche A
DTSTART;VALUE=DATE:20190826
DTEND;VALUE=DATE:20190827
DTSTAMP;VALUE=DATE-TIME:20260421T110434Z
UID:040000008200E00074C5B7101A82E00800000000300C3F1FA831D50100000000000000
 001000000077F9BF64CCA3D84895914569D1A647AE
CREATED;VALUE=DATE-TIME:20190708T101832Z
DESCRIPTION:\n\n
LAST-MODIFIED;VALUE=DATE-TIME:20200706T064358Z
URL:https://www.sek-pratteln.ch/events/oeffentlich/woche-a-16
END:VEVENT
END:VCALENDAR
