BEGIN:VCALENDAR
VERSION:2.0
PRODID:-//Plone.org//NONSGML plone.app.event//EN
X-WR-TIMEZONE:Europe/Zurich
BEGIN:VEVENT
SUMMARY:Woche A
DTSTART;VALUE=DATE:20191028
DTEND;VALUE=DATE:20191029
DTSTAMP;VALUE=DATE-TIME:20260421T110434Z
UID:040000008200E00074C5B7101A82E00800000000F0056B52A831D50100000000000000
 0010000000ECE639004285F148AC9D3A3AD6BB00F6
CREATED;VALUE=DATE-TIME:20190708T101830Z
DESCRIPTION:\n\n
LAST-MODIFIED;VALUE=DATE-TIME:20200706T064358Z
URL:https://www.sek-pratteln.ch/events/oeffentlich/woche-a-13
END:VEVENT
END:VCALENDAR
