BEGIN:VCALENDAR
VERSION:2.0
PRODID:-//Plone.org//NONSGML plone.app.event//EN
X-WR-TIMEZONE:Europe/Zurich
BEGIN:VEVENT
SUMMARY:Woche A
DTSTART;VALUE=DATE:20191111
DTEND;VALUE=DATE:20191112
DTSTAMP;VALUE=DATE-TIME:20260421T110433Z
UID:040000008200E00074C5B7101A82E00800000000A0372D59A831D50100000000000000
 00100000004B02207B9A7AD241B533DA4E2AFBF75D
CREATED;VALUE=DATE-TIME:20190708T101829Z
DESCRIPTION:\n\n
LAST-MODIFIED;VALUE=DATE-TIME:20200706T064358Z
URL:https://www.sek-pratteln.ch/events/oeffentlich/woche-a-12
END:VEVENT
END:VCALENDAR
