BEGIN:VCALENDAR
VERSION:2.0
PRODID:-//Plone.org//NONSGML plone.app.event//EN
X-WR-TIMEZONE:Europe/Zurich
BEGIN:VEVENT
SUMMARY:Woche A
DTSTART;TZID=Europe/Zurich;VALUE=DATE-TIME:20240909T070000
DTEND;TZID=Europe/Zurich;VALUE=DATE-TIME:20240909T073000
DTSTAMP;VALUE=DATE-TIME:20260421T110403Z
UID:040000008200E00074C5B7101A82E00800000000902F1CE72AC2DA0100000000000000
 0010000000D4F427D19EEE9D43AA2014FE1951E426
CREATED;VALUE=DATE-TIME:20240627T145145Z
LAST-MODIFIED;VALUE=DATE-TIME:20240627T145331Z
URL:https://www.sek-pratteln.ch/events/oeffentlich/woche-a-100
END:VEVENT
BEGIN:VTIMEZONE
TZID:Europe/Zurich
X-LIC-LOCATION:Europe/Zurich
BEGIN:DAYLIGHT
DTSTART;VALUE=DATE-TIME:20240331T030000
TZNAME:CEST
TZOFFSETFROM:+0100
TZOFFSETTO:+0200
END:DAYLIGHT
END:VTIMEZONE
END:VCALENDAR
