BEGIN:VCALENDAR
VERSION:2.0
PRODID:-//Plone.org//NONSGML plone.app.event//EN
X-WR-TIMEZONE:Europe/Zurich
BEGIN:VEVENT
SUMMARY:Woche A
DTSTART;VALUE=DATE:20191209
DTEND;VALUE=DATE:20191210
DTSTAMP;VALUE=DATE-TIME:20260420T164000Z
UID:040000008200E00074C5B7101A82E0080000000060073E68A831D50100000000000000
 0010000000DEF19D393572184D9F7027C0B18638F0
CREATED;VALUE=DATE-TIME:20190708T101828Z
DESCRIPTION:\n\n
LAST-MODIFIED;VALUE=DATE-TIME:20200706T064358Z
URL:https://www.sek-pratteln.ch/events/oeffentlich/woche-a-10
END:VEVENT
END:VCALENDAR
