BEGIN:VCALENDAR
VERSION:2.0
PRODID:-//Plone.org//NONSGML plone.app.event//EN
X-WR-TIMEZONE:Europe/Zurich
BEGIN:VEVENT
SUMMARY:Wellennachmittag: neue 1. Kl. besuchen neue KLP
DTSTART;VALUE=DATE:20250617
DTEND;VALUE=DATE:20250618
DTSTAMP;VALUE=DATE-TIME:20260421T111310Z
UID:040000008200E00074C5B7101A82E00800000000B01BADF844C2DA0100000000000000
 001000000048CD62477E43E149884D8068FC676803
CREATED;VALUE=DATE-TIME:20240627T145048Z
LAST-MODIFIED;VALUE=DATE-TIME:20240627T145631Z
URL:https://www.sek-pratteln.ch/events/oeffentlich/wellennachmittag-neue-1
 -kl-besuchen-neue-klp
END:VEVENT
END:VCALENDAR
