BEGIN:VCALENDAR
VERSION:2.0
PRODID:-//Plone.org//NONSGML plone.app.event//EN
X-WR-TIMEZONE:Europe/Zurich
BEGIN:VEVENT
SUMMARY:Weihnachtskonzert
DTSTART;TZID=Europe/Zurich;VALUE=DATE-TIME:20181220T180000
DTSTAMP;VALUE=DATE-TIME:20260421T104407Z
UID:b6fc64d85c914b86a381cdd7a7c8c743@5.35.252.84:8090
CONTACT:Simon Matiz
CREATED;VALUE=DATE-TIME:20181030T085737Z
LAST-MODIFIED;VALUE=DATE-TIME:20200706T064356Z
LOCATION:reformierte Kirche\, Pratteln
URL:https://www.sek-pratteln.ch/events/oeffentlich/weihnachtskonzert
END:VEVENT
BEGIN:VTIMEZONE
TZID:Europe/Zurich
X-LIC-LOCATION:Europe/Zurich
BEGIN:STANDARD
DTSTART;VALUE=DATE-TIME:20181028T020000
TZNAME:CET
TZOFFSETFROM:+0200
TZOFFSETTO:+0100
END:STANDARD
END:VTIMEZONE
END:VCALENDAR
