BEGIN:VCALENDAR
VERSION:2.0
PRODID:-//Plone.org//NONSGML plone.app.event//EN
X-WR-TIMEZONE:Europe/Zurich
BEGIN:VEVENT
SUMMARY:Schülerkonzert der 8. Klassen
DTSTART;TZID=Europe/Zurich;VALUE=DATE-TIME:20171221T190000
DTSTAMP;VALUE=DATE-TIME:20260421T110548Z
UID:cbfbc47936ba4cf299bbfc1eadd597ea@5.35.252.84:8090
CREATED;VALUE=DATE-TIME:20170810T153733Z
LAST-MODIFIED;VALUE=DATE-TIME:20200706T064351Z
LOCATION:grosse Aula\, B-Trakt
URL:https://www.sek-pratteln.ch/events/oeffentlich/weihnachtskonzert-der-8
 -klassen
END:VEVENT
BEGIN:VTIMEZONE
TZID:Europe/Zurich
X-LIC-LOCATION:Europe/Zurich
BEGIN:STANDARD
DTSTART;VALUE=DATE-TIME:20171029T020000
TZNAME:CET
TZOFFSETFROM:+0200
TZOFFSETTO:+0100
END:STANDARD
END:VTIMEZONE
END:VCALENDAR
