BEGIN:VCALENDAR
VERSION:2.0
PRODID:-//Plone.org//NONSGML plone.app.event//EN
X-WR-TIMEZONE:Europe/Zurich
BEGIN:VEVENT
SUMMARY:Weihnachtsferien
DTSTART;VALUE=DATE:20161224
DTEND;VALUE=DATE:20170103
DTSTAMP;VALUE=DATE-TIME:20260420T173259Z
UID:040000008200E00074C5B7101A82E00800000000C0135CFEC8CBD10100000000000000
 0010000000F090066893F0604A8BED1F0B1190F075
CREATED;VALUE=DATE-TIME:20160712T121539Z
LAST-MODIFIED;VALUE=DATE-TIME:20200706T064346Z
URL:https://www.sek-pratteln.ch/events/oeffentlich/weihnachtsferien
END:VEVENT
END:VCALENDAR
