BEGIN:VCALENDAR
VERSION:2.0
PRODID:-//Plone.org//NONSGML plone.app.event//EN
X-WR-TIMEZONE:Europe/Zurich
BEGIN:VEVENT
SUMMARY:Weihnachtsferien
DTSTART;VALUE=DATE:20251222
DTEND;VALUE=DATE:20260103
DTSTAMP;VALUE=DATE-TIME:20260419T213845Z
UID:040000008200E00074C5B7101A82E00800000000D0847CD319D2DB0100000000000000
 0010000000C3C53782B7FD354790A87B1E2A50BEED
CREATED;VALUE=DATE-TIME:20250611T084919Z
LAST-MODIFIED;VALUE=DATE-TIME:20250611T085637Z
URL:https://www.sek-pratteln.ch/events/oeffentlich/weihnachtsferien-7
END:VEVENT
END:VCALENDAR
