BEGIN:VCALENDAR
VERSION:2.0
PRODID:-//Plone.org//NONSGML plone.app.event//EN
X-WR-TIMEZONE:Europe/Zurich
BEGIN:VEVENT
SUMMARY:Weihnachtsferien
DTSTART;VALUE=DATE:20241221
DTEND;VALUE=DATE:20250106
DTSTAMP;VALUE=DATE-TIME:20260421T110612Z
UID:040000008200E00074C5B7101A82E0080000000090B100CB30C2DA0100000000000000
 00100000006472417ECB03984BB7DCA4FCB1511E86
CREATED;VALUE=DATE-TIME:20240627T145130Z
LAST-MODIFIED;VALUE=DATE-TIME:20240627T145355Z
URL:https://www.sek-pratteln.ch/events/oeffentlich/weihnachtsferien-6
END:VEVENT
END:VCALENDAR
