BEGIN:VCALENDAR
VERSION:2.0
PRODID:-//Plone.org//NONSGML plone.app.event//EN
X-WR-TIMEZONE:Europe/Zurich
BEGIN:VEVENT
SUMMARY:Weihnachtsferien
DTSTART;VALUE=DATE:20221224
DTEND;VALUE=DATE:20230107
DTSTAMP;VALUE=DATE-TIME:20260421T110547Z
UID:040000008200E00074C5B7101A82E00800000000002F4DB7A781D80100000000000000
 00100000003C5D2925F9DA8247A25643FF9A774A4D
CREATED;VALUE=DATE-TIME:20220627T163355Z
DESCRIPTION: \n
LAST-MODIFIED;VALUE=DATE-TIME:20220627T170019Z
URL:https://www.sek-pratteln.ch/events/oeffentlich/weihnachtsferien-4
END:VEVENT
END:VCALENDAR
