BEGIN:VCALENDAR
VERSION:2.0
PRODID:-//Plone.org//NONSGML plone.app.event//EN
X-WR-TIMEZONE:Europe/Zurich
BEGIN:VEVENT
SUMMARY:Weihnachtsferien
DTSTART;VALUE=DATE:20211220
DTEND;VALUE=DATE:20220101
DTSTAMP;VALUE=DATE-TIME:20260421T110547Z
UID:040000008200E00074C5B7101A82E0080000000010CA70360C62D70100000000000000
 0010000000123AAD7A2140434E95780F23865DD4EF
CREATED;VALUE=DATE-TIME:20210701T072555Z
LAST-MODIFIED;VALUE=DATE-TIME:20210701T072910Z
URL:https://www.sek-pratteln.ch/events/oeffentlich/weihnachtsferien-3
END:VEVENT
END:VCALENDAR
