BEGIN:VCALENDAR
VERSION:2.0
PRODID:-//Plone.org//NONSGML plone.app.event//EN
X-WR-TIMEZONE:Europe/Zurich
BEGIN:VEVENT
SUMMARY:Weihnachtsferien 24.12.14 - 03.01.15
DTSTART;VALUE=DATE:20151224
DTEND;VALUE=DATE:20160104
DTSTAMP;VALUE=DATE-TIME:20260419T231416Z
UID:040000008200E00074C5B7101A82E00800000000E06868EF2A8FD00100000000000000
 0010000000B426EE20D15E2D4BA7A2290605A47D49
CREATED;VALUE=DATE-TIME:20150710T073747Z
DESCRIPTION:\n\n\n
LAST-MODIFIED;VALUE=DATE-TIME:20200706T064341Z
URL:https://www.sek-pratteln.ch/events/oeffentlich/weihnachtsferien-24-12-
 14-03-01.15
END:VEVENT
END:VCALENDAR
