BEGIN:VCALENDAR
VERSION:2.0
PRODID:-//Plone.org//NONSGML plone.app.event//EN
X-WR-TIMEZONE:Europe/Zurich
BEGIN:VEVENT
SUMMARY:Weihnachtsferien
DTSTART;VALUE=DATE:20201221
DTEND;VALUE=DATE:20210102
DTSTAMP;VALUE=DATE-TIME:20260421T110549Z
UID:040000008200E00074C5B7101A82E00800000000E096B5098945D60100000000000000
 001000000082EC2976F9D2594DBE1F8A6462D7F784
CREATED;VALUE=DATE-TIME:20200706T062919Z
LAST-MODIFIED;VALUE=DATE-TIME:20200706T064408Z
URL:https://www.sek-pratteln.ch/events/oeffentlich/weihnachtsferien-2
END:VEVENT
END:VCALENDAR
