BEGIN:VCALENDAR
VERSION:2.0
PRODID:-//Plone.org//NONSGML plone.app.event//EN
X-WR-TIMEZONE:Europe/Zurich
BEGIN:VEVENT
SUMMARY:Wandertag
DTSTART;VALUE=DATE:20231024
DTEND;VALUE=DATE:20231025
DTSTAMP;VALUE=DATE-TIME:20260421T110336Z
UID:040000008200E00074C5B7101A82E0080000000060AD77C440A4D90100000000000000
 0010000000C2254A809ECD8349BF2744B40EACEBD4
CREATED;VALUE=DATE-TIME:20230626T125549Z
LAST-MODIFIED;VALUE=DATE-TIME:20230626T125923Z
URL:https://www.sek-pratteln.ch/events/oeffentlich/wandertag
END:VEVENT
END:VCALENDAR
