BEGIN:VCALENDAR
VERSION:2.0
PRODID:-//Plone.org//NONSGML plone.app.event//EN
X-WR-TIMEZONE:Europe/Zurich
BEGIN:VEVENT
SUMMARY:Verschiebedatum Wandertag
DTSTART;VALUE=DATE:20250909
DTEND;VALUE=DATE:20250910
DTSTAMP;VALUE=DATE-TIME:20260421T110550Z
UID:040000008200E00074C5B7101A82E00800000000B0AF054B1DD2DB0100000000000000
 0010000000662C93CF66D1054F82B361B9282FC980
CREATED;VALUE=DATE-TIME:20250611T084913Z
LAST-MODIFIED;VALUE=DATE-TIME:20250611T085637Z
URL:https://www.sek-pratteln.ch/events/oeffentlich/verschiebedatum-wandert
 ag-1
END:VEVENT
END:VCALENDAR
