BEGIN:VCALENDAR
VERSION:2.0
PRODID:-//Plone.org//NONSGML plone.app.event//EN
X-WR-TIMEZONE:Europe/Zurich
BEGIN:VEVENT
SUMMARY:Verschiebedatum Sporttag 
DTSTART;VALUE=DATE:20250623
DTEND;VALUE=DATE:20250624
DTSTAMP;VALUE=DATE-TIME:20260421T104723Z
UID:040000008200E00074C5B7101A82E0080000000050BA0F8044C2DA0100000000000000
 00100000002F266D78B0B9DC46B5B8B27DDF876DE4
CREATED;VALUE=DATE-TIME:20240627T145050Z
LAST-MODIFIED;VALUE=DATE-TIME:20240627T145632Z
URL:https://www.sek-pratteln.ch/events/oeffentlich/verschiebedatum-sportta
 g-3
END:VEVENT
END:VCALENDAR
